BEGIN:VCALENDAR
VERSION:2.0
PRODID:-//Palkonya - ECPv5.4.0//NONSGML v1.0//EN
CALSCALE:GREGORIAN
METHOD:PUBLISH
X-WR-CALNAME:Palkonya
X-ORIGINAL-URL:https://palkonya.hu
X-WR-CALDESC:Events for Palkonya
BEGIN:VTIMEZONE
TZID:UTC
BEGIN:STANDARD
TZOFFSETFROM:+0000
TZOFFSETTO:+0000
TZNAME:UTC
DTSTART:20210101T000000
END:STANDARD
END:VTIMEZONE
BEGIN:VEVENT
DTSTART;TZID=UTC:20210522T100000
DTEND;TZID=UTC:20210523T230000
DTSTAMP:20260420T123706
CREATED:20210505T093859Z
LAST-MODIFIED:20210514T193843Z
UID:4183-1621677600-1621810800@palkonya.hu
SUMMARY:Palkonya Nyitva! | Pünkösd 2021
DESCRIPTION: PALKONYA NYITVA \nPÜNKÖSD | 2021.05.22-23.\nSzeretett Pünkösdi Nyitott Pincék rendezvényünk sajnos az idei esztendőben sem kerülhet megrendezésre\, AZONBAN pincéink\, bisztróink és éttermeink ismét óriási örömmel\, kedvenc palkonyai boraitokkal és finom falatokkal várnak Titeket Pünkösd szombaton és vasárnap egyaránt!\nA helyszínek az aktuális kormányrendeleteknek megfelelően\, a nyitvatartási idejükben fogadják vendégeiket.\n\n További információk: www.palkonya.hu/palkonya-nyitva-punkosd-2021-05-22-23/\n\n#palkonyanyitva #palkonyagasztrofalu #pünkösdinyitottpincék #palkonya
URL:https://palkonya.hu/esemeny/palkonya-nyitva-punkosd-2021/
CATEGORIES:Bor,Gasztro,Kiemelt események,Nyitva,Szállás
ATTACH;FMTTYPE=image/jpeg:https://palkonya.hu/wp-content/uploads/2021/04/palkonya-punkosd-fb-cover-2021-2.jpg
END:VEVENT
END:VCALENDAR