BEGIN:VCALENDAR
VERSION:2.0
PRODID:-//Palkonya - ECPv5.4.0//NONSGML v1.0//EN
CALSCALE:GREGORIAN
METHOD:PUBLISH
X-WR-CALNAME:Palkonya
X-ORIGINAL-URL:https://palkonya.hu
X-WR-CALDESC:Events for Palkonya
BEGIN:VTIMEZONE
TZID:UTC
BEGIN:STANDARD
TZOFFSETFROM:+0000
TZOFFSETTO:+0000
TZNAME:UTC
DTSTART:20190101T000000
END:STANDARD
END:VTIMEZONE
BEGIN:VEVENT
DTSTART;VALUE=DATE:20190615
DTEND;VALUE=DATE:20190616
DTSTAMP:20260422T085247
CREATED:20190618T095938Z
LAST-MODIFIED:20190618T100003Z
UID:2146-1560556800-1560643199@palkonya.hu
SUMMARY:Mozi és piknik - Palkonya Nyitva!
DESCRIPTION:Pünkösd után újra PALKONYA…\nMozizás\, piknik hangulat\, gyerekprogramok\, bűvészműsor….\nA hónap Palkonya NYITVA kampánysorozat gesztora a Pavilon Palkonya. Várunk mindenkit szeretettel június 14-16-án IS!\n#pavilonpalkonya #palkonyanyitva #lassuljbe \n\nhttps://palkonya.hu/wp-content/uploads/2019/06/pavilon_palkonya_16-9.mp4\n15 órától Darth Vaderrel\, Elza hercegnővel\, Lui\, világrekorder bűvésszel és olyan finom hűtött üdítőkkel várunk mindenkit a Pavilonban Palkonyán\, hogy még Olaf is jól fogja érezni magát! ?\n#pavilonpalkonya
URL:https://palkonya.hu/esemeny/mozi-es-piknik-palkonya-nyitva/
CATEGORIES:Bor,Egyéb programok,Gasztro,Kiemelt események,Nyitva
ATTACH;FMTTYPE=image/png:https://palkonya.hu/wp-content/uploads/2019/06/pavilon_fbcover.png
END:VEVENT
END:VCALENDAR